{
 "currentVersion": 10.91,
 "serviceDescription": ".",
 "mapName": "Layers",
 "description": "",
 "copyrightText": "",
 "supportsDynamicLayers": true,
 "layers": [],
 "tables": [],
 "spatialReference": {
  "wkid": 4326,
  "latestWkid": 4326
 },
 "singleFusedMapCache": true,
 "tileInfo": {
  "rows": 256,
  "cols": 256,
  "dpi": 96,
  "format": "PNG32",
  "compressionQuality": 0,
  "origin": {
   "x": -400,
   "y": 399.9999999999998
  },
  "spatialReference": {
   "wkid": 4326,
   "latestWkid": 4326
  },
  "lods": [
   {
    "level": 0,
    "resolution": 1.5228550437313792E-4,
    "scale": 64000
   },
   {
    "level": 1,
    "resolution": 7.614275218656896E-5,
    "scale": 32000
   },
   {
    "level": 2,
    "resolution": 3.807137609328448E-5,
    "scale": 16000
   },
   {
    "level": 3,
    "resolution": 1.903568804664224E-5,
    "scale": 8000
   },
   {
    "level": 4,
    "resolution": 9.51784402332112E-6,
    "scale": 4000
   },
   {
    "level": 5,
    "resolution": 4.75892201166056E-6,
    "scale": 2000
   },
   {
    "level": 6,
    "resolution": 2.37946100583028E-6,
    "scale": 1000
   },
   {
    "level": 7,
    "resolution": 1.18973050291514E-6,
    "scale": 500
   }
  ]
 },
 "initialExtent": {
  "xmin": 39.064863465604795,
  "ymin": 22.30050462096624,
  "xmax": 39.139467394293895,
  "ymax": 22.33361184768469,
  "spatialReference": {
   "wkid": 4326,
   "latestWkid": 4326
  }
 },
 "fullExtent": {
  "xmin": 39.08736232349691,
  "ymin": 22.28042272998524,
  "xmax": 39.13402266846387,
  "ymax": 22.34395987628449,
  "spatialReference": {
   "wkid": 4326,
   "latestWkid": 4326
  }
 },
 "minScale": 0,
 "maxScale": 0,
 "units": "esriDecimalDegrees",
 "supportedImageFormatTypes": "PNG32,PNG24,PNG,JPG,DIB,TIFF,EMF,PS,PDF,GIF,SVG,SVGZ,BMP",
 "documentInfo": {
  "Title": "",
  "Author": "",
  "Comments": ".",
  "Subject": ".",
  "Category": "",
  "AntialiasingMode": "None",
  "TextAntialiasingMode": "Force",
  "Keywords": "."
 },
 "capabilities": "Map,Query,Data",
 "supportedQueryFormats": "JSON, geoJSON",
 "exportTilesAllowed": false,
 "referenceScale": 0,
 "datumTransformations": [
  {
   "geoTransforms": [
    {
     "wkid": 8011,
     "latestWkid": 1111,
     "transformForward": true,
     "name": "Ain_El_Abd_To_WGS_1984_2"
    }
   ]
  },
  {
   "geoTransforms": [
    {
     "wkid": 8011,
     "latestWkid": 1111,
     "transformForward": false,
     "name": "Ain_El_Abd_To_WGS_1984_2"
    }
   ]
  }
 ],
 "supportsDatumTransformation": true,
 "maxRecordCount": 1000,
 "maxImageHeight": 4096,
 "maxImageWidth": 4096,
 "supportedExtensions": "KmlServer",
 "resampling": false,
 "serviceItemId": "b0f32bd4844e4196a38610091cf5d012"
}
