{
 "currentVersion": 10.91,
 "serviceDescription": "KAUST BaseMap March 2021",
 "mapName": "Layers",
 "description": "",
 "copyrightText": "@KAUST 2021",
 "supportsDynamicLayers": true,
 "layers": [
  {
   "id": 0,
   "name": "500",
   "parentLayerId": -1,
   "defaultVisibility": true,
   "subLayerIds": [
    1,
    2,
    3,
    4,
    5,
    6,
    7,
    8,
    9,
    10,
    11,
    12,
    13,
    14,
    15,
    16,
    17,
    18,
    19,
    20,
    21,
    22,
    23,
    24,
    25,
    26,
    27,
    28,
    29,
    30,
    31,
    32,
    33,
    34,
    35,
    36,
    37,
    38,
    39,
    40,
    41,
    42,
    43,
    44,
    45,
    46,
    47,
    48
   ],
   "minScale": 500,
   "maxScale": 0,
   "type": "Group Layer"
  },
  {
   "id": 49,
   "name": "1K",
   "parentLayerId": -1,
   "defaultVisibility": true,
   "subLayerIds": [
    50,
    51,
    52,
    53,
    54,
    55,
    56,
    57,
    58,
    59,
    60,
    61,
    62,
    63,
    64,
    65,
    66,
    67,
    68,
    69,
    70,
    71,
    72,
    73,
    74,
    75,
    76,
    77,
    78,
    79,
    80,
    81,
    82,
    83,
    84,
    85,
    86,
    87,
    88,
    89,
    90,
    91,
    92,
    93,
    94
   ],
   "minScale": 1000,
   "maxScale": 501,
   "type": "Group Layer"
  },
  {
   "id": 95,
   "name": "2K",
   "parentLayerId": -1,
   "defaultVisibility": true,
   "subLayerIds": [
    96,
    97,
    98,
    99,
    100,
    101,
    102,
    103,
    104,
    105,
    106,
    107,
    108,
    109,
    110,
    111,
    112,
    113,
    114,
    115,
    116,
    117,
    118,
    119,
    120,
    121,
    122,
    123,
    124,
    125,
    126,
    127,
    128,
    129,
    130,
    131,
    132,
    133,
    134,
    135
   ],
   "minScale": 2000,
   "maxScale": 1001,
   "type": "Group Layer"
  },
  {
   "id": 136,
   "name": "2.5k",
   "parentLayerId": -1,
   "defaultVisibility": true,
   "subLayerIds": [
    137,
    138,
    139,
    140,
    141,
    142,
    143,
    144,
    145,
    146,
    147,
    148,
    149,
    150,
    151,
    152,
    153,
    154,
    155,
    156,
    157,
    158,
    159,
    160,
    161,
    162,
    163
   ],
   "minScale": 2500,
   "maxScale": 2001,
   "type": "Group Layer"
  },
  {
   "id": 164,
   "name": "4K",
   "parentLayerId": -1,
   "defaultVisibility": true,
   "subLayerIds": [
    165,
    166,
    167,
    168,
    169,
    170,
    171,
    172,
    173,
    174,
    175,
    176,
    177,
    178,
    179,
    180,
    181,
    182,
    183,
    184,
    185,
    186,
    187,
    188,
    189,
    190
   ],
   "minScale": 4000,
   "maxScale": 2501,
   "type": "Group Layer"
  },
  {
   "id": 191,
   "name": "5K",
   "parentLayerId": -1,
   "defaultVisibility": true,
   "subLayerIds": [
    192,
    193,
    194,
    195,
    196,
    197,
    198,
    199,
    200,
    201,
    202,
    203,
    204,
    205,
    206,
    207,
    208,
    209,
    210,
    211,
    212,
    213,
    214,
    215,
    216
   ],
   "minScale": 5000,
   "maxScale": 4001,
   "type": "Group Layer"
  },
  {
   "id": 217,
   "name": "10K",
   "parentLayerId": -1,
   "defaultVisibility": true,
   "subLayerIds": [
    218,
    219,
    220,
    221,
    222,
    223,
    224,
    225,
    226,
    227,
    228,
    229,
    230,
    231,
    232,
    233,
    234
   ],
   "minScale": 10000,
   "maxScale": 5001,
   "type": "Group Layer"
  },
  {
   "id": 235,
   "name": "16K",
   "parentLayerId": -1,
   "defaultVisibility": true,
   "subLayerIds": [
    236,
    237,
    238,
    239,
    240,
    241,
    242,
    243,
    244,
    245,
    246,
    247,
    248,
    249,
    250
   ],
   "minScale": 16000,
   "maxScale": 10001,
   "type": "Group Layer"
  },
  {
   "id": 251,
   "name": "20K",
   "parentLayerId": -1,
   "defaultVisibility": true,
   "subLayerIds": [
    252,
    253,
    254,
    255,
    256,
    257,
    258,
    259,
    260,
    261,
    262,
    263
   ],
   "minScale": 20000,
   "maxScale": 16001,
   "type": "Group Layer"
  },
  {
   "id": 264,
   "name": "25K",
   "parentLayerId": -1,
   "defaultVisibility": true,
   "subLayerIds": [
    265,
    266,
    267,
    268,
    269,
    270,
    271,
    272,
    273,
    274
   ],
   "minScale": 25000,
   "maxScale": 20001,
   "type": "Group Layer"
  },
  {
   "id": 275,
   "name": "32K",
   "parentLayerId": -1,
   "defaultVisibility": true,
   "subLayerIds": [
    276,
    277,
    278,
    279,
    280,
    281,
    282
   ],
   "minScale": 32000,
   "maxScale": 25001,
   "type": "Group Layer"
  },
  {
   "id": 283,
   "name": "50K",
   "parentLayerId": -1,
   "defaultVisibility": true,
   "subLayerIds": [
    284,
    285,
    286,
    287
   ],
   "minScale": 50000,
   "maxScale": 32001,
   "type": "Group Layer"
  },
  {
   "id": 288,
   "name": "64K",
   "parentLayerId": -1,
   "defaultVisibility": true,
   "subLayerIds": [
    289,
    290,
    291,
    292,
    293,
    294
   ],
   "minScale": 64000,
   "maxScale": 50001,
   "type": "Group Layer"
  }
 ],
 "tables": [],
 "spatialReference": {
  "wkid": 20437,
  "latestWkid": 20437,
  "vcsWkid": 5725,
  "latestVcsWkid": 5725
 },
 "singleFusedMapCache": true,
 "tileInfo": {
  "rows": 256,
  "cols": 256,
  "dpi": 96,
  "format": "MIXED",
  "compressionQuality": 100,
  "origin": {
   "x": -5121200,
   "y": 9998400
  },
  "spatialReference": {
   "wkid": 20437,
   "latestWkid": 20437,
   "vcsWkid": 5725,
   "latestVcsWkid": 5725
  },
  "lods": [
   {
    "level": 0,
    "resolution": 16.933367200067735,
    "scale": 64000
   },
   {
    "level": 1,
    "resolution": 13.229193125052918,
    "scale": 50000
   },
   {
    "level": 2,
    "resolution": 8.466683600033868,
    "scale": 32000
   },
   {
    "level": 3,
    "resolution": 6.614596562526459,
    "scale": 25000
   },
   {
    "level": 4,
    "resolution": 5.291677250021167,
    "scale": 20000
   },
   {
    "level": 5,
    "resolution": 4.233341800016934,
    "scale": 16000
   },
   {
    "level": 6,
    "resolution": 2.6458386250105836,
    "scale": 10000
   },
   {
    "level": 7,
    "resolution": 1.3229193125052918,
    "scale": 5000
   },
   {
    "level": 8,
    "resolution": 0.6614596562526459,
    "scale": 2500
   },
   {
    "level": 9,
    "resolution": 0.5291677250021167,
    "scale": 2000
   },
   {
    "level": 10,
    "resolution": 0.26458386250105836,
    "scale": 1000
   },
   {
    "level": 11,
    "resolution": 0.13229193125052918,
    "scale": 500
   }
  ]
 },
 "initialExtent": {
  "xmin": 502526.5576245556,
  "ymin": 2466032.2935649506,
  "xmax": 519104.32411342213,
  "ymax": 2474752.9776729853,
  "spatialReference": {
   "wkid": 20437,
   "latestWkid": 20437,
   "vcsWkid": 5725,
   "latestVcsWkid": 5725
  }
 },
 "fullExtent": {
  "xmin": 500426.6877998159,
  "ymin": 2460321.647768655,
  "xmax": 521644.1969015008,
  "ymax": 2474190.07550551,
  "spatialReference": {
   "wkid": 20437,
   "latestWkid": 20437,
   "vcsWkid": 5725,
   "latestVcsWkid": 5725
  }
 },
 "minScale": 64000,
 "maxScale": 500,
 "minLOD": 0,
 "maxLOD": 11,
 "units": "esriMeters",
 "supportedImageFormatTypes": "PNG32,PNG24,PNG,JPG,DIB,TIFF,EMF,PS,PDF,GIF,SVG,SVGZ,BMP",
 "documentInfo": {
  "Title": "",
  "Author": "",
  "Comments": "KAUST BaseMap JULY 2018",
  "Subject": "KAUST BaseMap JULY 2018",
  "Category": "",
  "AntialiasingMode": "None",
  "TextAntialiasingMode": "Force",
  "Keywords": "Basemap"
 },
 "capabilities": "Map,Query,Data",
 "supportedQueryFormats": "JSON, geoJSON",
 "exportTilesAllowed": false,
 "referenceScale": 0,
 "supportsDatumTransformation": true,
 "maxRecordCount": 10000,
 "maxImageHeight": 4096,
 "maxImageWidth": 4096,
 "supportedExtensions": "KmlServer",
 "serviceItemId": "cf614b699c374ff7beb03769f9c18ecc"
}
