{
 "currentVersion": 10.91,
 "serviceDescription": "KAUST Satellite JULY 2020",
 "mapName": "Layers",
 "description": "",
 "copyrightText": "KAUST @ 2020",
 "supportsDynamicLayers": true,
 "layers": [],
 "tables": [],
 "spatialReference": {
  "wkid": 20437,
  "latestWkid": 20437,
  "vcsWkid": 5725,
  "latestVcsWkid": 5725
 },
 "singleFusedMapCache": true,
 "tileInfo": {
  "rows": 256,
  "cols": 256,
  "dpi": 96,
  "format": "MIXED",
  "compressionQuality": 100,
  "origin": {
   "x": -5121200,
   "y": 9998400
  },
  "spatialReference": {
   "wkid": 20437,
   "latestWkid": 20437,
   "vcsWkid": 5725,
   "latestVcsWkid": 5725
  },
  "lods": [
   {
    "level": 0,
    "resolution": 16.933367200067735,
    "scale": 64000
   },
   {
    "level": 1,
    "resolution": 13.229193125052918,
    "scale": 50000
   },
   {
    "level": 2,
    "resolution": 8.466683600033868,
    "scale": 32000
   },
   {
    "level": 3,
    "resolution": 6.614596562526459,
    "scale": 25000
   },
   {
    "level": 4,
    "resolution": 5.291677250021167,
    "scale": 20000
   },
   {
    "level": 5,
    "resolution": 4.233341800016934,
    "scale": 16000
   },
   {
    "level": 6,
    "resolution": 2.6458386250105836,
    "scale": 10000
   },
   {
    "level": 7,
    "resolution": 1.3229193125052918,
    "scale": 5000
   },
   {
    "level": 8,
    "resolution": 0.6614596562526459,
    "scale": 2500
   },
   {
    "level": 9,
    "resolution": 0.5291677250021167,
    "scale": 2000
   },
   {
    "level": 10,
    "resolution": 0.26458386250105836,
    "scale": 1000
   },
   {
    "level": 11,
    "resolution": 0.13229193125052918,
    "scale": 500
   }
  ]
 },
 "initialExtent": {
  "xmin": 495484.4801704322,
  "ymin": 2463203.927109186,
  "xmax": 526464.2074803645,
  "ymax": 2476951.9008921715,
  "spatialReference": {
   "wkid": 20437,
   "latestWkid": 20437,
   "vcsWkid": 5725,
   "latestVcsWkid": 5725
  }
 },
 "fullExtent": {
  "xmin": 500426.6877998159,
  "ymin": 2460321.647768655,
  "xmax": 521644.1969015008,
  "ymax": 2474190.07550551,
  "spatialReference": {
   "wkid": 20437,
   "latestWkid": 20437,
   "vcsWkid": 5725,
   "latestVcsWkid": 5725
  }
 },
 "minScale": 64000,
 "maxScale": 500,
 "minLOD": 0,
 "maxLOD": 11,
 "units": "esriMeters",
 "supportedImageFormatTypes": "PNG32,PNG24,PNG,JPG,DIB,TIFF,EMF,PS,PDF,GIF,SVG,SVGZ,BMP",
 "documentInfo": {
  "Title": "",
  "Author": "",
  "Comments": "KAUST BaseMap JULY 2018",
  "Subject": "KAUST BaseMap JULY 2018",
  "Category": "",
  "AntialiasingMode": "None",
  "TextAntialiasingMode": "Force",
  "Keywords": "Satellite"
 },
 "capabilities": "Map,Query,Data",
 "supportedQueryFormats": "JSON, geoJSON",
 "exportTilesAllowed": false,
 "referenceScale": 0,
 "datumTransformations": [
  {
   "geoTransforms": [
    {
     "wkid": 8011,
     "latestWkid": 1111,
     "transformForward": false,
     "name": "Ain_El_Abd_To_WGS_1984_2"
    }
   ]
  },
  {
   "geoTransforms": [
    {
     "wkid": 8011,
     "latestWkid": 1111,
     "transformForward": true,
     "name": "Ain_El_Abd_To_WGS_1984_2"
    }
   ]
  }
 ],
 "supportsDatumTransformation": true,
 "maxRecordCount": 1000,
 "maxImageHeight": 4096,
 "maxImageWidth": 4096,
 "supportedExtensions": "KmlServer",
 "resampling": false,
 "serviceItemId": "15e149cf97f84b7daaa52bbac6f6d2b1"
}
