{
 "currentVersion": 10.91,
 "serviceDescription": "KAUST BaseMap JULY 2018",
 "mapName": "Layers",
 "description": "",
 "copyrightText": "@KAUST 2019",
 "supportsDynamicLayers": true,
 "layers": [
  {
   "id": 0,
   "name": "500",
   "parentLayerId": -1,
   "defaultVisibility": true,
   "subLayerIds": [
    1,
    2,
    3,
    4,
    5,
    6,
    7,
    8,
    9,
    10,
    11,
    12,
    13,
    15,
    16,
    20,
    21,
    22,
    23,
    24,
    25,
    26,
    27,
    28,
    29,
    30,
    31,
    32,
    33,
    34,
    35,
    36,
    37,
    38,
    39,
    40,
    41,
    42,
    43,
    44
   ],
   "minScale": 500,
   "maxScale": 0,
   "type": "Group Layer"
  },
  {
   "id": 5,
   "name": "Emergency Phone",
   "parentLayerId": 0,
   "defaultVisibility": true,
   "subLayerIds": null,
   "minScale": 0,
   "maxScale": 0,
   "type": "Feature Layer",
   "geometryType": "esriGeometryPoint"
  },
  {
   "id": 13,
   "name": "Banking",
   "parentLayerId": 0,
   "defaultVisibility": true,
   "subLayerIds": [
    14
   ],
   "minScale": 0,
   "maxScale": 0,
   "type": "Group Layer"
  },
  {
   "id": 16,
   "name": "Education",
   "parentLayerId": 0,
   "defaultVisibility": true,
   "subLayerIds": [
    17,
    18,
    19
   ],
   "minScale": 0,
   "maxScale": 0,
   "type": "Group Layer"
  },
  {
   "id": 22,
   "name": "KAUST_AB_ACADMICBUILDINGS_PNT_june",
   "parentLayerId": 0,
   "defaultVisibility": true,
   "subLayerIds": null,
   "minScale": 0,
   "maxScale": 0,
   "type": "Feature Layer",
   "geometryType": "esriGeometryPoint"
  },
  {
   "id": 45,
   "name": "1K",
   "parentLayerId": -1,
   "defaultVisibility": true,
   "subLayerIds": [
    46,
    47,
    48,
    49,
    50,
    51,
    52,
    53,
    54,
    55,
    56,
    57,
    58,
    60,
    61,
    65,
    66,
    67,
    68,
    69,
    70,
    71,
    72,
    73,
    74,
    75,
    76,
    77,
    78,
    79,
    80,
    81,
    82,
    83,
    84,
    85,
    86
   ],
   "minScale": 1000,
   "maxScale": 501,
   "type": "Group Layer"
  },
  {
   "id": 50,
   "name": "Emergency Phone",
   "parentLayerId": 45,
   "defaultVisibility": true,
   "subLayerIds": null,
   "minScale": 0,
   "maxScale": 0,
   "type": "Feature Layer",
   "geometryType": "esriGeometryPoint"
  },
  {
   "id": 58,
   "name": "Banking",
   "parentLayerId": 45,
   "defaultVisibility": true,
   "subLayerIds": [
    59
   ],
   "minScale": 0,
   "maxScale": 0,
   "type": "Group Layer"
  },
  {
   "id": 61,
   "name": "Education",
   "parentLayerId": 45,
   "defaultVisibility": true,
   "subLayerIds": [
    62,
    63,
    64
   ],
   "minScale": 0,
   "maxScale": 0,
   "type": "Group Layer"
  },
  {
   "id": 66,
   "name": "KAUST_AB_ACADMICBUILDINGS_PNT_june",
   "parentLayerId": 45,
   "defaultVisibility": true,
   "subLayerIds": null,
   "minScale": 0,
   "maxScale": 0,
   "type": "Feature Layer",
   "geometryType": "esriGeometryPoint"
  },
  {
   "id": 87,
   "name": "2K",
   "parentLayerId": -1,
   "defaultVisibility": true,
   "subLayerIds": [
    88,
    89,
    90,
    91,
    92,
    93,
    94,
    95,
    96,
    97,
    98,
    100,
    101,
    105,
    106,
    107,
    108,
    109,
    110,
    111,
    112,
    113,
    114,
    115,
    116,
    117,
    118,
    119,
    120,
    121,
    122,
    123,
    124
   ],
   "minScale": 2000,
   "maxScale": 1001,
   "type": "Group Layer"
  },
  {
   "id": 88,
   "name": "KAUST_AB_ACADMICBUILDINGS_PNT_june",
   "parentLayerId": 87,
   "defaultVisibility": true,
   "subLayerIds": null,
   "minScale": 0,
   "maxScale": 0,
   "type": "Feature Layer",
   "geometryType": "esriGeometryPoint"
  },
  {
   "id": 98,
   "name": "Banking",
   "parentLayerId": 87,
   "defaultVisibility": false,
   "subLayerIds": [
    99
   ],
   "minScale": 0,
   "maxScale": 0,
   "type": "Group Layer"
  },
  {
   "id": 101,
   "name": "Education",
   "parentLayerId": 87,
   "defaultVisibility": true,
   "subLayerIds": [
    102,
    103,
    104
   ],
   "minScale": 0,
   "maxScale": 0,
   "type": "Group Layer"
  },
  {
   "id": 125,
   "name": "2.5k",
   "parentLayerId": -1,
   "defaultVisibility": true,
   "subLayerIds": [
    126,
    127,
    128,
    129,
    130,
    131,
    132,
    133,
    134,
    135,
    136,
    137,
    138,
    139,
    140,
    141,
    142,
    143,
    144,
    145
   ],
   "minScale": 2500,
   "maxScale": 2001,
   "type": "Group Layer"
  },
  {
   "id": 126,
   "name": "KAUST_AB_ACADMICBUILDINGS_PNT_june",
   "parentLayerId": 125,
   "defaultVisibility": true,
   "subLayerIds": null,
   "minScale": 0,
   "maxScale": 0,
   "type": "Feature Layer",
   "geometryType": "esriGeometryPoint"
  },
  {
   "id": 146,
   "name": "4K",
   "parentLayerId": -1,
   "defaultVisibility": true,
   "subLayerIds": [
    147,
    148,
    149,
    150,
    151,
    152,
    153,
    154,
    155,
    156,
    157,
    158,
    159,
    160,
    161,
    162,
    163,
    164,
    165
   ],
   "minScale": 4000,
   "maxScale": 2501,
   "type": "Group Layer"
  },
  {
   "id": 147,
   "name": "KAUST_AB_ACADMICBUILDINGS_PNT_june",
   "parentLayerId": 146,
   "defaultVisibility": true,
   "subLayerIds": null,
   "minScale": 0,
   "maxScale": 0,
   "type": "Feature Layer",
   "geometryType": "esriGeometryPoint"
  },
  {
   "id": 166,
   "name": "5K",
   "parentLayerId": -1,
   "defaultVisibility": true,
   "subLayerIds": [
    167,
    168,
    169,
    170,
    171,
    172,
    173,
    174,
    175,
    176,
    177,
    178,
    179,
    180,
    181,
    182,
    183,
    184
   ],
   "minScale": 5000,
   "maxScale": 4001,
   "type": "Group Layer"
  },
  {
   "id": 167,
   "name": "KAUST_AB_ACADMICBUILDINGS_PNT_june",
   "parentLayerId": 166,
   "defaultVisibility": true,
   "subLayerIds": null,
   "minScale": 0,
   "maxScale": 0,
   "type": "Feature Layer",
   "geometryType": "esriGeometryPoint"
  },
  {
   "id": 185,
   "name": "10K",
   "parentLayerId": -1,
   "defaultVisibility": true,
   "subLayerIds": [
    186,
    187,
    188,
    189,
    190,
    191,
    192,
    193,
    194,
    195,
    196,
    197,
    198,
    199,
    200,
    201
   ],
   "minScale": 10000,
   "maxScale": 5001,
   "type": "Group Layer"
  },
  {
   "id": 202,
   "name": "16K",
   "parentLayerId": -1,
   "defaultVisibility": true,
   "subLayerIds": [
    203,
    204,
    205,
    206,
    207,
    208,
    209,
    210,
    211,
    212,
    213,
    214,
    215,
    216,
    217
   ],
   "minScale": 16000,
   "maxScale": 10001,
   "type": "Group Layer"
  },
  {
   "id": 218,
   "name": "20K",
   "parentLayerId": -1,
   "defaultVisibility": true,
   "subLayerIds": [
    219,
    220,
    221,
    222,
    223,
    224,
    225,
    226,
    227,
    228,
    229,
    230
   ],
   "minScale": 20000,
   "maxScale": 16001,
   "type": "Group Layer"
  },
  {
   "id": 231,
   "name": "25K",
   "parentLayerId": -1,
   "defaultVisibility": true,
   "subLayerIds": [
    232,
    233,
    234,
    235,
    236,
    237,
    238,
    239,
    240,
    241
   ],
   "minScale": 25000,
   "maxScale": 20001,
   "type": "Group Layer"
  },
  {
   "id": 242,
   "name": "32K",
   "parentLayerId": -1,
   "defaultVisibility": true,
   "subLayerIds": [
    243,
    244,
    245,
    246,
    247,
    248,
    249
   ],
   "minScale": 32000,
   "maxScale": 25001,
   "type": "Group Layer"
  },
  {
   "id": 250,
   "name": "50K",
   "parentLayerId": -1,
   "defaultVisibility": true,
   "subLayerIds": [
    251,
    252,
    253,
    254
   ],
   "minScale": 50000,
   "maxScale": 32001,
   "type": "Group Layer"
  },
  {
   "id": 255,
   "name": "64K",
   "parentLayerId": -1,
   "defaultVisibility": true,
   "subLayerIds": [
    256,
    257,
    258,
    259,
    260,
    261
   ],
   "minScale": 64000,
   "maxScale": 50001,
   "type": "Group Layer"
  },
  {
   "id": 256,
   "name": "Complete_KAUST_PNT",
   "parentLayerId": 255,
   "defaultVisibility": true,
   "subLayerIds": null,
   "minScale": 0,
   "maxScale": 0,
   "type": "Feature Layer",
   "geometryType": "esriGeometryPoint"
  },
  {
   "id": 260,
   "name": "Complete_KAUST_POL",
   "parentLayerId": 255,
   "defaultVisibility": false,
   "subLayerIds": null,
   "minScale": 0,
   "maxScale": 0,
   "type": "Feature Layer",
   "geometryType": "esriGeometryPolygon"
  }
 ],
 "tables": [],
 "spatialReference": {
  "wkid": 20437,
  "latestWkid": 20437,
  "vcsWkid": 5725,
  "latestVcsWkid": 5725
 },
 "singleFusedMapCache": true,
 "tileInfo": {
  "rows": 256,
  "cols": 256,
  "dpi": 96,
  "format": "MIXED",
  "compressionQuality": 100,
  "origin": {
   "x": -5121200,
   "y": 9998400
  },
  "spatialReference": {
   "wkid": 20437,
   "latestWkid": 20437,
   "vcsWkid": 5725,
   "latestVcsWkid": 5725
  },
  "lods": [
   {
    "level": 0,
    "resolution": 16.933367200067735,
    "scale": 64000
   },
   {
    "level": 1,
    "resolution": 13.229193125052918,
    "scale": 50000
   },
   {
    "level": 2,
    "resolution": 8.466683600033868,
    "scale": 32000
   },
   {
    "level": 3,
    "resolution": 6.614596562526459,
    "scale": 25000
   },
   {
    "level": 4,
    "resolution": 5.291677250021167,
    "scale": 20000
   },
   {
    "level": 5,
    "resolution": 4.233341800016934,
    "scale": 16000
   },
   {
    "level": 6,
    "resolution": 2.6458386250105836,
    "scale": 10000
   },
   {
    "level": 7,
    "resolution": 1.3229193125052918,
    "scale": 5000
   },
   {
    "level": 8,
    "resolution": 0.6614596562526459,
    "scale": 2500
   },
   {
    "level": 9,
    "resolution": 0.5291677250021167,
    "scale": 2000
   },
   {
    "level": 10,
    "resolution": 0.26458386250105836,
    "scale": 1000
   },
   {
    "level": 11,
    "resolution": 0.13229193125052918,
    "scale": 500
   }
  ]
 },
 "initialExtent": {
  "xmin": 498463.93793123873,
  "ymin": 2460185.6468849154,
  "xmax": 526933.1615363527,
  "ymax": 2472819.526319341,
  "spatialReference": {
   "wkid": 20437,
   "latestWkid": 20437,
   "vcsWkid": 5725,
   "latestVcsWkid": 5725
  }
 },
 "fullExtent": {
  "xmin": 497306.4051314793,
  "ymin": 2457837.0844284375,
  "xmax": 525960.8374403438,
  "ymax": 2474492.6385728796,
  "spatialReference": {
   "wkid": 20437,
   "latestWkid": 20437,
   "vcsWkid": 5725,
   "latestVcsWkid": 5725
  }
 },
 "minScale": 0,
 "maxScale": 0,
 "units": "esriMeters",
 "supportedImageFormatTypes": "PNG32,PNG24,PNG,JPG,DIB,TIFF,EMF,PS,PDF,GIF,SVG,SVGZ,BMP",
 "documentInfo": {
  "Title": "",
  "Author": "",
  "Comments": "KAUST BaseMap JULY 2018",
  "Subject": "KAUST BaseMap JULY 2018",
  "Category": "",
  "AntialiasingMode": "None",
  "TextAntialiasingMode": "Force",
  "Keywords": "Basemap"
 },
 "capabilities": "Map,Query,Data",
 "supportedQueryFormats": "JSON, geoJSON",
 "exportTilesAllowed": false,
 "referenceScale": 0,
 "supportsDatumTransformation": true,
 "maxRecordCount": 1000,
 "maxImageHeight": 4096,
 "maxImageWidth": 4096,
 "supportedExtensions": "KmlServer",
 "resampling": false,
 "serviceItemId": "938f4fc6321e4339b1a4af9a17e900f9"
}
