{
 "currentVersion": 10.91,
 "serviceDescription": "The Campus Basemap can be used to create a high-resolution, multi-scale basemap for a university or business campus. It can also be used by government agencies to produce a high-resolution basemap for a downtown, government complex, or military base. ",
 "mapName": "Layers",
 "description": "The Campus Basemap can be used to create a high-resolution, multi-scale basemap for a university or business campus. It can also be used by government agencies to produce a high-resolution basemap for a downtown, government complex, or military base.",
 "copyrightText": "City of Naperville, Illinois, Esri., Inc.",
 "supportsDynamicLayers": true,
 "layers": [
  {
   "id": 520,
   "name": "Security Zone Lines",
   "parentLayerId": -1,
   "defaultVisibility": true,
   "subLayerIds": null,
   "minScale": 0,
   "maxScale": 0,
   "type": "Feature Layer",
   "geometryType": "esriGeometryPolyline"
  },
  {
   "id": 529,
   "name": "residentials_3d",
   "parentLayerId": -1,
   "defaultVisibility": true,
   "subLayerIds": null,
   "minScale": 5000,
   "maxScale": 0,
   "type": "Feature Layer",
   "geometryType": "esriGeometryPolygon"
  },
  {
   "id": 532,
   "name": "academic_3d",
   "parentLayerId": -1,
   "defaultVisibility": true,
   "subLayerIds": null,
   "minScale": 5000,
   "maxScale": 0,
   "type": "Feature Layer",
   "geometryType": "esriGeometryPolygon"
  },
  {
   "id": 534,
   "name": "facilities_3d",
   "parentLayerId": -1,
   "defaultVisibility": true,
   "subLayerIds": null,
   "minScale": 5000,
   "maxScale": 0,
   "type": "Feature Layer",
   "geometryType": "esriGeometryPolygon"
  },
  {
   "id": 535,
   "name": "facilities_3d",
   "parentLayerId": -1,
   "defaultVisibility": true,
   "subLayerIds": null,
   "minScale": 5000,
   "maxScale": 0,
   "type": "Feature Layer",
   "geometryType": "esriGeometryPolygon"
  },
  {
   "id": 546,
   "name": "Security Zones",
   "parentLayerId": -1,
   "defaultVisibility": true,
   "subLayerIds": null,
   "minScale": 0,
   "maxScale": 0,
   "type": "Feature Layer",
   "geometryType": "esriGeometryPolygon"
  }
 ],
 "tables": [],
 "spatialReference": {
  "wkid": 102100,
  "latestWkid": 3857
 },
 "singleFusedMapCache": true,
 "tileInfo": {
  "rows": 256,
  "cols": 256,
  "dpi": 96,
  "format": "MIXED",
  "compressionQuality": 90,
  "origin": {
   "x": -20037700,
   "y": 30241100
  },
  "spatialReference": {
   "wkid": 102100,
   "latestWkid": 3857
  },
  "lods": [
   {
    "level": 0,
    "resolution": 156543.039989205,
    "scale": 5.916575505E8
   },
   {
    "level": 1,
    "resolution": 78271.67350615951,
    "scale": 2.9582935545E8
   },
   {
    "level": 2,
    "resolution": 39135.83675440268,
    "scale": 1.4791467773E8
   },
   {
    "level": 3,
    "resolution": 19567.931605071546,
    "scale": 7.395738886E7
   },
   {
    "level": 4,
    "resolution": 9783.95918793921,
    "scale": 3.697866943E7
   },
   {
    "level": 5,
    "resolution": 4891.979595292524,
    "scale": 1.848933472E7
   },
   {
    "level": 6,
    "resolution": 2445.989797646262,
    "scale": 9244667.36
   },
   {
    "level": 7,
    "resolution": 1222.994898823131,
    "scale": 4622333.68
   },
   {
    "level": 8,
    "resolution": 611.4974494115655,
    "scale": 2311166.84
   },
   {
    "level": 9,
    "resolution": 305.74872470578276,
    "scale": 1155583.42
   },
   {
    "level": 10,
    "resolution": 152.87436235289138,
    "scale": 577791.71
   },
   {
    "level": 11,
    "resolution": 76.43717985352637,
    "scale": 288895.85
   },
   {
    "level": 12,
    "resolution": 38.2185912496825,
    "scale": 144447.93
   },
   {
    "level": 13,
    "resolution": 19.10929430192194,
    "scale": 72223.96
   },
   {
    "level": 14,
    "resolution": 9.55464715096097,
    "scale": 36111.98
   },
   {
    "level": 15,
    "resolution": 4.777323575480485,
    "scale": 18055.99
   },
   {
    "level": 16,
    "resolution": 2.3886631106595546,
    "scale": 9028
   },
   {
    "level": 17,
    "resolution": 1.1943315553297773,
    "scale": 4514
   },
   {
    "level": 18,
    "resolution": 0.5971657776648887,
    "scale": 2257
   },
   {
    "level": 19,
    "resolution": 0.2985828888324443,
    "scale": 1128.5
   },
   {
    "level": 20,
    "resolution": 0.14929144441622216,
    "scale": 564.25
   }
  ]
 },
 "initialExtent": {
  "xmin": 4351616.936512597,
  "ymin": 2548329.5904949233,
  "xmax": 4354846.999313083,
  "ymax": 2549763.005910566,
  "spatialReference": {
   "wkid": 102100,
   "latestWkid": 3857
  }
 },
 "fullExtent": {
  "xmin": 4347719.3852982605,
  "ymin": 2544656.6841896423,
  "xmax": 4360133.093355647,
  "ymax": 2553718.691071535,
  "spatialReference": {
   "wkid": 102100,
   "latestWkid": 3857
  }
 },
 "minScale": 0,
 "maxScale": 0,
 "units": "esriMeters",
 "supportedImageFormatTypes": "PNG32,PNG24,PNG,JPG,DIB,TIFF,EMF,PS,PDF,GIF,SVG,SVGZ,BMP",
 "documentInfo": {
  "Title": "Campus Basemap",
  "Author": "Esri., Inc.",
  "Comments": "The Campus Basemap can be used to create a high-resolution, multi-scale basemap for a university or business campus. It can also be used by government agencies to produce a high-resolution basemap for a downtown, government complex, or military base. ",
  "Subject": "The Campus Basemap can be used to create a high-resolution, multi-scale basemap for a university, business, downtown or military base.",
  "Category": "",
  "AntialiasingMode": "None",
  "TextAntialiasingMode": "Force",
  "Keywords": "University Campus,Campus Basemap,Local Government Downtown"
 },
 "capabilities": "Map,Query,Data",
 "supportedQueryFormats": "JSON, geoJSON",
 "exportTilesAllowed": false,
 "referenceScale": 0,
 "datumTransformations": [
  {
   "geoTransforms": [
    {
     "wkid": 108001,
     "latestWkid": 1241,
     "transformForward": true,
     "name": "NAD_1927_To_NAD_1983_NADCON"
    }
   ]
  },
  {
   "geoTransforms": [
    {
     "wkid": 108001,
     "latestWkid": 1241,
     "transformForward": false,
     "name": "NAD_1927_To_NAD_1983_NADCON"
    }
   ]
  },
  {
   "geoTransforms": [
    {
     "wkid": 1580,
     "latestWkid": 1580,
     "transformForward": true,
     "name": "NAD_1983_HARN_To_WGS_1984"
    }
   ]
  },
  {
   "geoTransforms": [
    {
     "wkid": 1580,
     "latestWkid": 1580,
     "transformForward": false,
     "name": "NAD_1983_HARN_To_WGS_1984"
    }
   ]
  },
  {
   "geoTransforms": [
    {
     "wkid": 8088,
     "latestWkid": 1188,
     "transformForward": true,
     "name": "NAD_1983_To_WGS_1984_1"
    }
   ]
  },
  {
   "geoTransforms": [
    {
     "wkid": 8088,
     "latestWkid": 1188,
     "transformForward": false,
     "name": "NAD_1983_To_WGS_1984_1"
    }
   ]
  },
  {
   "geoTransforms": [
    {
     "wkid": 1058,
     "latestWkid": 1058,
     "transformForward": true,
     "name": "Ain_El_Abd_To_WGS_1984_6"
    }
   ]
  },
  {
   "geoTransforms": [
    {
     "wkid": 1058,
     "latestWkid": 1058,
     "transformForward": false,
     "name": "Ain_El_Abd_To_WGS_1984_6"
    }
   ]
  }
 ],
 "supportsDatumTransformation": true,
 "maxRecordCount": 1000,
 "maxImageHeight": 4096,
 "maxImageWidth": 4096,
 "supportedExtensions": "KmlServer",
 "resampling": false,
 "serviceItemId": "7724e78006f049798f777a39106b61c6"
}
