{
 "currentVersion": 10.91,
 "serviceDescription": "Community basemap updates",
 "mapName": "Layers",
 "description": "",
 "copyrightText": "",
 "supportsDynamicLayers": true,
 "layers": [
  {
   "id": 0,
   "name": "500",
   "parentLayerId": -1,
   "defaultVisibility": true,
   "subLayerIds": [
    1,
    2,
    3,
    4,
    5,
    6,
    7,
    8,
    9,
    10,
    11,
    12,
    13,
    15,
    16,
    20,
    21,
    22,
    23,
    24,
    25,
    26,
    27,
    28,
    29,
    30,
    31,
    32,
    33,
    34,
    35,
    36,
    37,
    38,
    39,
    40,
    41,
    42,
    43,
    44
   ],
   "minScale": 500,
   "maxScale": 0,
   "type": "Group Layer"
  },
  {
   "id": 5,
   "name": "Emergency Phone",
   "parentLayerId": 0,
   "defaultVisibility": true,
   "subLayerIds": null,
   "minScale": 0,
   "maxScale": 0,
   "type": "Feature Layer",
   "geometryType": "esriGeometryPoint"
  },
  {
   "id": 13,
   "name": "Banking",
   "parentLayerId": 0,
   "defaultVisibility": true,
   "subLayerIds": [
    14
   ],
   "minScale": 0,
   "maxScale": 0,
   "type": "Group Layer"
  },
  {
   "id": 16,
   "name": "Education",
   "parentLayerId": 0,
   "defaultVisibility": true,
   "subLayerIds": [
    17,
    18,
    19
   ],
   "minScale": 0,
   "maxScale": 0,
   "type": "Group Layer"
  },
  {
   "id": 22,
   "name": "KAUST_AB_ACADMICBUILDINGS_PNT",
   "parentLayerId": 0,
   "defaultVisibility": true,
   "subLayerIds": null,
   "minScale": 0,
   "maxScale": 0,
   "type": "Feature Layer",
   "geometryType": "esriGeometryPoint"
  },
  {
   "id": 45,
   "name": "1K",
   "parentLayerId": -1,
   "defaultVisibility": true,
   "subLayerIds": [
    46,
    47,
    48,
    49,
    50,
    51,
    52,
    53,
    54,
    55,
    56,
    57,
    58,
    60,
    61,
    65,
    66,
    67,
    68,
    69,
    70,
    71,
    72,
    73,
    74,
    75,
    76,
    77,
    78,
    79,
    80,
    81,
    82,
    83,
    84,
    85,
    86
   ],
   "minScale": 1000,
   "maxScale": 501,
   "type": "Group Layer"
  },
  {
   "id": 50,
   "name": "Emergency Phone",
   "parentLayerId": 45,
   "defaultVisibility": true,
   "subLayerIds": null,
   "minScale": 0,
   "maxScale": 0,
   "type": "Feature Layer",
   "geometryType": "esriGeometryPoint"
  },
  {
   "id": 58,
   "name": "Banking",
   "parentLayerId": 45,
   "defaultVisibility": true,
   "subLayerIds": [
    59
   ],
   "minScale": 0,
   "maxScale": 0,
   "type": "Group Layer"
  },
  {
   "id": 61,
   "name": "Education",
   "parentLayerId": 45,
   "defaultVisibility": true,
   "subLayerIds": [
    62,
    63,
    64
   ],
   "minScale": 0,
   "maxScale": 0,
   "type": "Group Layer"
  },
  {
   "id": 66,
   "name": "KAUST_AB_ACADMICBUILDINGS_PNT",
   "parentLayerId": 45,
   "defaultVisibility": true,
   "subLayerIds": null,
   "minScale": 0,
   "maxScale": 0,
   "type": "Feature Layer",
   "geometryType": "esriGeometryPoint"
  },
  {
   "id": 87,
   "name": "2K",
   "parentLayerId": -1,
   "defaultVisibility": true,
   "subLayerIds": [
    88,
    89,
    90,
    91,
    92,
    93,
    94,
    95,
    96,
    97,
    99,
    100,
    104,
    105,
    106,
    107,
    108,
    109,
    110,
    111,
    112,
    113,
    114,
    115,
    116,
    117,
    118,
    119,
    120,
    121,
    122,
    123
   ],
   "minScale": 2000,
   "maxScale": 1001,
   "type": "Group Layer"
  },
  {
   "id": 97,
   "name": "Banking",
   "parentLayerId": 87,
   "defaultVisibility": false,
   "subLayerIds": [
    98
   ],
   "minScale": 0,
   "maxScale": 0,
   "type": "Group Layer"
  },
  {
   "id": 100,
   "name": "Education",
   "parentLayerId": 87,
   "defaultVisibility": true,
   "subLayerIds": [
    101,
    102,
    103
   ],
   "minScale": 0,
   "maxScale": 0,
   "type": "Group Layer"
  },
  {
   "id": 124,
   "name": "2.5k",
   "parentLayerId": -1,
   "defaultVisibility": true,
   "subLayerIds": [
    125,
    126,
    127,
    128,
    129,
    130,
    131,
    132,
    133,
    134,
    135,
    136,
    137,
    138,
    139,
    140,
    141,
    142,
    143
   ],
   "minScale": 2500,
   "maxScale": 2001,
   "type": "Group Layer"
  },
  {
   "id": 144,
   "name": "4K",
   "parentLayerId": -1,
   "defaultVisibility": true,
   "subLayerIds": [
    145,
    146,
    147,
    148,
    149,
    150,
    151,
    152,
    153,
    154,
    155,
    156,
    157,
    158,
    159,
    160,
    161,
    162
   ],
   "minScale": 4000,
   "maxScale": 2501,
   "type": "Group Layer"
  },
  {
   "id": 163,
   "name": "5K",
   "parentLayerId": -1,
   "defaultVisibility": true,
   "subLayerIds": [
    164,
    165,
    166,
    167,
    168,
    169,
    170,
    171,
    172,
    173,
    174,
    175,
    176,
    177,
    178,
    179,
    180
   ],
   "minScale": 5000,
   "maxScale": 4001,
   "type": "Group Layer"
  },
  {
   "id": 181,
   "name": "10K",
   "parentLayerId": -1,
   "defaultVisibility": true,
   "subLayerIds": [
    182,
    183,
    184,
    185,
    186,
    187,
    188,
    189,
    190,
    191,
    192,
    193,
    194,
    195,
    196,
    197
   ],
   "minScale": 10000,
   "maxScale": 5001,
   "type": "Group Layer"
  },
  {
   "id": 198,
   "name": "16K",
   "parentLayerId": -1,
   "defaultVisibility": true,
   "subLayerIds": [
    199,
    200,
    201,
    202,
    203,
    204,
    205,
    206,
    207,
    208,
    209,
    210,
    211,
    212,
    213
   ],
   "minScale": 16000,
   "maxScale": 10001,
   "type": "Group Layer"
  },
  {
   "id": 214,
   "name": "20K",
   "parentLayerId": -1,
   "defaultVisibility": true,
   "subLayerIds": [
    215,
    216,
    217,
    218,
    219,
    220,
    221,
    222,
    223,
    224,
    225,
    226
   ],
   "minScale": 20000,
   "maxScale": 16001,
   "type": "Group Layer"
  },
  {
   "id": 227,
   "name": "25K",
   "parentLayerId": -1,
   "defaultVisibility": true,
   "subLayerIds": [
    228,
    229,
    230,
    231,
    232,
    233,
    234,
    235,
    236,
    237
   ],
   "minScale": 25000,
   "maxScale": 20001,
   "type": "Group Layer"
  },
  {
   "id": 238,
   "name": "32K",
   "parentLayerId": -1,
   "defaultVisibility": true,
   "subLayerIds": [
    239,
    240,
    241,
    242,
    243,
    244,
    245
   ],
   "minScale": 32000,
   "maxScale": 25001,
   "type": "Group Layer"
  },
  {
   "id": 246,
   "name": "50K",
   "parentLayerId": -1,
   "defaultVisibility": true,
   "subLayerIds": [
    247,
    248,
    249,
    250
   ],
   "minScale": 50000,
   "maxScale": 32001,
   "type": "Group Layer"
  },
  {
   "id": 251,
   "name": "64K",
   "parentLayerId": -1,
   "defaultVisibility": true,
   "subLayerIds": [
    252,
    253,
    254,
    255,
    256,
    257
   ],
   "minScale": 64000,
   "maxScale": 50001,
   "type": "Group Layer"
  },
  {
   "id": 252,
   "name": "Complete_KAUST_PNT",
   "parentLayerId": 251,
   "defaultVisibility": false,
   "subLayerIds": null,
   "minScale": 0,
   "maxScale": 0,
   "type": "Feature Layer",
   "geometryType": "esriGeometryPoint"
  },
  {
   "id": 256,
   "name": "Complete_KAUST_POL",
   "parentLayerId": 251,
   "defaultVisibility": true,
   "subLayerIds": null,
   "minScale": 0,
   "maxScale": 0,
   "type": "Feature Layer",
   "geometryType": "esriGeometryPolygon"
  }
 ],
 "tables": [],
 "spatialReference": {
  "wkid": 20437,
  "latestWkid": 20437,
  "vcsWkid": 5725,
  "latestVcsWkid": 5725
 },
 "singleFusedMapCache": true,
 "tileInfo": {
  "rows": 256,
  "cols": 256,
  "dpi": 96,
  "format": "MIXED",
  "compressionQuality": 75,
  "origin": {
   "x": -5121200,
   "y": 9998400
  },
  "spatialReference": {
   "wkid": 20437,
   "latestWkid": 20437,
   "vcsWkid": 5725,
   "latestVcsWkid": 5725
  },
  "lods": [
   {
    "level": 0,
    "resolution": 16.933367200067735,
    "scale": 64000
   },
   {
    "level": 1,
    "resolution": 13.229193125052918,
    "scale": 50000
   },
   {
    "level": 2,
    "resolution": 8.466683600033868,
    "scale": 32000
   },
   {
    "level": 3,
    "resolution": 6.614596562526459,
    "scale": 25000
   },
   {
    "level": 4,
    "resolution": 5.291677250021167,
    "scale": 20000
   },
   {
    "level": 5,
    "resolution": 4.233341800016934,
    "scale": 16000
   },
   {
    "level": 6,
    "resolution": 2.6458386250105836,
    "scale": 10000
   },
   {
    "level": 7,
    "resolution": 2.116670900008467,
    "scale": 8000
   },
   {
    "level": 8,
    "resolution": 1.3229193125052918,
    "scale": 5000
   },
   {
    "level": 9,
    "resolution": 1.0583354500042335,
    "scale": 4000
   },
   {
    "level": 10,
    "resolution": 0.6614596562526459,
    "scale": 2500
   },
   {
    "level": 11,
    "resolution": 0.5291677250021167,
    "scale": 2000
   },
   {
    "level": 12,
    "resolution": 0.26458386250105836,
    "scale": 1000
   },
   {
    "level": 13,
    "resolution": 0.13229193125052918,
    "scale": 500
   }
  ]
 },
 "initialExtent": {
  "xmin": 508391.64869581617,
  "ymin": 2465523.401238902,
  "xmax": 513470.5327396182,
  "ymax": 2467777.27403715,
  "spatialReference": {
   "wkid": 20437,
   "latestWkid": 20437,
   "vcsWkid": 5725,
   "latestVcsWkid": 5725
  }
 },
 "fullExtent": {
  "xmin": 505301.042222384,
  "ymin": 2463597.93695017,
  "xmax": 517392.52473868243,
  "ymax": 2471118.7332417625,
  "spatialReference": {
   "wkid": 20437,
   "latestWkid": 20437,
   "vcsWkid": 5725,
   "latestVcsWkid": 5725
  }
 },
 "minScale": 0,
 "maxScale": 0,
 "units": "esriMeters",
 "supportedImageFormatTypes": "PNG32,PNG24,PNG,JPG,DIB,TIFF,EMF,PS,PDF,GIF,SVG,SVGZ,BMP",
 "documentInfo": {
  "Title": "",
  "Author": "",
  "Comments": "Community basemap updates",
  "Subject": "Community basemap updates",
  "Category": "",
  "AntialiasingMode": "None",
  "TextAntialiasingMode": "Force",
  "Keywords": "Community basemap updates"
 },
 "capabilities": "Map,Query,Data",
 "supportedQueryFormats": "JSON, geoJSON",
 "exportTilesAllowed": false,
 "referenceScale": 0,
 "datumTransformations": [
  {
   "geoTransforms": [
    {
     "wkid": 8011,
     "latestWkid": 1111,
     "transformForward": true,
     "name": "Ain_El_Abd_To_WGS_1984_2"
    }
   ]
  },
  {
   "geoTransforms": [
    {
     "wkid": 8011,
     "latestWkid": 1111,
     "transformForward": false,
     "name": "Ain_El_Abd_To_WGS_1984_2"
    }
   ]
  },
  {
   "geoTransforms": [
    {
     "wkid": 8011,
     "latestWkid": 1111,
     "transformForward": true,
     "name": "Ain_El_Abd_To_WGS_1984_2"
    },
    {
     "wkid": 108100,
     "latestWkid": 15973,
     "transformForward": false,
     "name": "WGS_1984_Major_Auxiliary_Sphere_To_WGS_1984"
    }
   ]
  },
  {
   "geoTransforms": [
    {
     "wkid": 108100,
     "latestWkid": 15973,
     "transformForward": true,
     "name": "WGS_1984_Major_Auxiliary_Sphere_To_WGS_1984"
    },
    {
     "wkid": 8011,
     "latestWkid": 1111,
     "transformForward": false,
     "name": "Ain_El_Abd_To_WGS_1984_2"
    }
   ]
  }
 ],
 "supportsDatumTransformation": true,
 "maxRecordCount": 1000,
 "maxImageHeight": 4096,
 "maxImageWidth": 4096,
 "supportedExtensions": "KmlServer",
 "resampling": false,
 "serviceItemId": "d2391efb414d492bb1b324799e457ded"
}
