{
 "currentVersion": 10.91,
 "serviceDescription": "Community basemap updates",
 "mapName": "Layers",
 "description": "",
 "copyrightText": "",
 "supportsDynamicLayers": true,
 "layers": [],
 "tables": [],
 "spatialReference": {
  "wkid": 20437,
  "latestWkid": 20437,
  "vcsWkid": 5725,
  "latestVcsWkid": 5725
 },
 "singleFusedMapCache": true,
 "tileInfo": {
  "rows": 256,
  "cols": 256,
  "dpi": 96,
  "format": "PNG",
  "compressionQuality": 0,
  "origin": {
   "x": -5121200,
   "y": 9998400
  },
  "spatialReference": {
   "wkid": 20437,
   "latestWkid": 20437,
   "vcsWkid": 5725,
   "latestVcsWkid": 5725
  },
  "lods": [
   {
    "level": 0,
    "resolution": 16.933367200067735,
    "scale": 64000
   },
   {
    "level": 1,
    "resolution": 13.229193125052918,
    "scale": 50000
   },
   {
    "level": 2,
    "resolution": 8.466683600033868,
    "scale": 32000
   },
   {
    "level": 3,
    "resolution": 6.614596562526459,
    "scale": 25000
   },
   {
    "level": 4,
    "resolution": 5.291677250021167,
    "scale": 20000
   },
   {
    "level": 5,
    "resolution": 4.233341800016934,
    "scale": 16000
   },
   {
    "level": 6,
    "resolution": 2.6458386250105836,
    "scale": 10000
   },
   {
    "level": 7,
    "resolution": 2.116670900008467,
    "scale": 8000
   },
   {
    "level": 8,
    "resolution": 1.3229193125052918,
    "scale": 5000
   },
   {
    "level": 9,
    "resolution": 1.0583354500042335,
    "scale": 4000
   },
   {
    "level": 10,
    "resolution": 0.6614596562526459,
    "scale": 2500
   },
   {
    "level": 11,
    "resolution": 0.5291677250021167,
    "scale": 2000
   },
   {
    "level": 12,
    "resolution": 0.26458386250105836,
    "scale": 1000
   },
   {
    "level": 13,
    "resolution": 0.13229193125052918,
    "scale": 500
   }
  ]
 },
 "initialExtent": {
  "xmin": 508283.22109969484,
  "ymin": 2465966.001897638,
  "xmax": 513977.0658207176,
  "ymax": 2468492.777784523,
  "spatialReference": {
   "wkid": 20437,
   "latestWkid": 20437,
   "vcsWkid": 5725,
   "latestVcsWkid": 5725
  }
 },
 "fullExtent": {
  "xmin": 505301.042222384,
  "ymin": 2463597.93695017,
  "xmax": 517392.52473868243,
  "ymax": 2471118.7332417625,
  "spatialReference": {
   "wkid": 20437,
   "latestWkid": 20437,
   "vcsWkid": 5725,
   "latestVcsWkid": 5725
  }
 },
 "minScale": 0,
 "maxScale": 0,
 "units": "esriMeters",
 "supportedImageFormatTypes": "PNG32,PNG24,PNG,JPG,DIB,TIFF,EMF,PS,PDF,GIF,SVG,SVGZ,BMP",
 "documentInfo": {
  "Title": "",
  "Author": "",
  "Comments": "Community basemap updates",
  "Subject": "Community basemap updates",
  "Category": "",
  "AntialiasingMode": "None",
  "TextAntialiasingMode": "Force",
  "Keywords": "Community basemap updates"
 },
 "capabilities": "Map,Query,Data",
 "supportedQueryFormats": "JSON, geoJSON",
 "exportTilesAllowed": false,
 "referenceScale": 0,
 "datumTransformations": [
  {
   "geoTransforms": [
    {
     "wkid": 8011,
     "latestWkid": 1111,
     "transformForward": true,
     "name": "Ain_El_Abd_To_WGS_1984_2"
    }
   ]
  },
  {
   "geoTransforms": [
    {
     "wkid": 8011,
     "latestWkid": 1111,
     "transformForward": false,
     "name": "Ain_El_Abd_To_WGS_1984_2"
    }
   ]
  },
  {
   "geoTransforms": [
    {
     "wkid": 8011,
     "latestWkid": 1111,
     "transformForward": true,
     "name": "Ain_El_Abd_To_WGS_1984_2"
    },
    {
     "wkid": 108100,
     "latestWkid": 15973,
     "transformForward": false,
     "name": "WGS_1984_Major_Auxiliary_Sphere_To_WGS_1984"
    }
   ]
  },
  {
   "geoTransforms": [
    {
     "wkid": 108100,
     "latestWkid": 15973,
     "transformForward": true,
     "name": "WGS_1984_Major_Auxiliary_Sphere_To_WGS_1984"
    },
    {
     "wkid": 8011,
     "latestWkid": 1111,
     "transformForward": false,
     "name": "Ain_El_Abd_To_WGS_1984_2"
    }
   ]
  }
 ],
 "supportsDatumTransformation": true,
 "maxRecordCount": 1000,
 "maxImageHeight": 4096,
 "maxImageWidth": 4096,
 "supportedExtensions": "KmlServer",
 "serviceItemId": "935a3da91eff497381f0467985eeb9a2"
}
